BEGIN:VCALENDAR
VERSION:2.0
PRODID:-//Saint Paul Academy of Theology - ECPv6.15.13.1//NONSGML v1.0//EN
CALSCALE:GREGORIAN
METHOD:PUBLISH
X-WR-CALNAME:Saint Paul Academy of Theology
X-ORIGINAL-URL:https://www.stpaulsem.com
X-WR-CALDESC:Events for Saint Paul Academy of Theology
REFRESH-INTERVAL;VALUE=DURATION:PT1H
X-Robots-Tag:noindex
X-PUBLISHED-TTL:PT1H
BEGIN:VTIMEZONE
TZID:America/Halifax
BEGIN:DAYLIGHT
TZOFFSETFROM:-0400
TZOFFSETTO:-0300
TZNAME:ADT
DTSTART:20220313T060000
END:DAYLIGHT
BEGIN:STANDARD
TZOFFSETFROM:-0300
TZOFFSETTO:-0400
TZNAME:AST
DTSTART:20221106T050000
END:STANDARD
BEGIN:DAYLIGHT
TZOFFSETFROM:-0400
TZOFFSETTO:-0300
TZNAME:ADT
DTSTART:20230312T060000
END:DAYLIGHT
BEGIN:STANDARD
TZOFFSETFROM:-0300
TZOFFSETTO:-0400
TZNAME:AST
DTSTART:20231105T050000
END:STANDARD
BEGIN:DAYLIGHT
TZOFFSETFROM:-0400
TZOFFSETTO:-0300
TZNAME:ADT
DTSTART:20240310T060000
END:DAYLIGHT
BEGIN:STANDARD
TZOFFSETFROM:-0300
TZOFFSETTO:-0400
TZNAME:AST
DTSTART:20241103T050000
END:STANDARD
END:VTIMEZONE
BEGIN:VEVENT
DTSTART;VALUE=DATE:20230403
DTEND;VALUE=DATE:20230613
DTSTAMP:20260423T180541
CREATED:20221217T071414Z
LAST-MODIFIED:20221217T071630Z
UID:6223-1680480000-1686614399@www.stpaulsem.com
SUMMARY:[정규과목] 구약개론 I (모세오경\, 역사서)
DESCRIPTION:구약개론 I (모세오경\, 역사서) – 일요일\, 2023년 4월 3일 – 6월 12일 7:30-9:30PM 10 주간 (미동부시간) 한국시간 익일 아침 8:30AM \nInstructor: \n이윤석박사\, MDiv\, ThM\, DMin \n강사약력: \n브루클린제일교회 담임목사 \nReformed Theological Seminary\, DMin (설교학) \nBiblical Theological Seminary\, ThM (구약학) \nWestminster Theological Seminary\, ThM (신약학) \n총신대\, MDiv \n수강신청: \nhttps://docs.google.com/forms/d/1iD6CLjvc05K-XeRRtdUSvh6sB1JZQG0BfyUpbSgsm2k/edit \nZoom link \nhttps://us02web.zoom.us/j/85719090784?pwd=QXRsa0dIRDhHVGt4NUFJL2djS29oUT09 \nMeeting ID: 857 1909 0784Passcode: 777045
URL:https://www.stpaulsem.com/event/%ec%a0%95%ea%b7%9c%ea%b3%bc%eb%aa%a9-%ea%b5%ac%ec%95%bd%ea%b0%9c%eb%a1%a0-i-%eb%aa%a8%ec%84%b8%ec%98%a4%ea%b2%bd-%ec%97%ad%ec%82%ac%ec%84%9c/
ATTACH;FMTTYPE=image/jpeg:https://www.stpaulsem.com/wp-content/uploads/2021/03/event-5.jpg
END:VEVENT
BEGIN:VEVENT
DTSTART;VALUE=DATE:20230403
DTEND;VALUE=DATE:20230613
DTSTAMP:20260423T180541
CREATED:20221221T025139Z
LAST-MODIFIED:20221221T025523Z
UID:6237-1680480000-1686614399@www.stpaulsem.com
SUMMARY:Old Testament Survey I
DESCRIPTION:Old Testament Survey- Sunday\, April 3\, 2023 – Sunday\, June 12\, 2023\, 7:30-9:30PM (Eastern Time)  \nInstructor \nYounSuk Lee\, MDiv\, ThM\, DMin\nInstructor bioSenior Pastor\, Brooklyn First Presbyterian Church \nReformed Theological Seminary\, DMin (Homiletics) \nBiblical Theological Seminary\, ThM (Old Testament) \nWestminster Theological Seminary\, ThM (New Testament) \nEnrollment Linkhttps://docs.google.com/forms/d/1iD6CLjvc05K-XeRRtdUSvh6sB1JZQG0BfyUpbSgsm2k/edit \nZoom link \nhttps://us02web.zoom.us/j/85719090784?pwd=QXRsa0dIRDhHVGt4NUFJL2djS29oUT09 \nMeeting ID: 857 1909 0784Passcode: 777045
URL:https://www.stpaulsem.com/event/old-testament-survey-i/
ATTACH;FMTTYPE=image/jpeg:https://www.stpaulsem.com/wp-content/uploads/2021/03/event-5.jpg
END:VEVENT
END:VCALENDAR