BEGIN:VCALENDAR
VERSION:2.0
PRODID:-//Saint Paul Academy of Theology - ECPv6.15.13.1//NONSGML v1.0//EN
CALSCALE:GREGORIAN
METHOD:PUBLISH
X-WR-CALNAME:Saint Paul Academy of Theology
X-ORIGINAL-URL:https://www.stpaulsem.com
X-WR-CALDESC:Events for Saint Paul Academy of Theology
REFRESH-INTERVAL;VALUE=DURATION:PT1H
X-Robots-Tag:noindex
X-PUBLISHED-TTL:PT1H
BEGIN:VTIMEZONE
TZID:UTC
BEGIN:STANDARD
TZOFFSETFROM:+0000
TZOFFSETTO:+0000
TZNAME:UTC
DTSTART:20230101T000000
END:STANDARD
END:VTIMEZONE
BEGIN:VEVENT
DTSTART;TZID=UTC:20240107T193000
DTEND;TZID=UTC:20240107T213000
DTSTAMP:20260421T081225
CREATED:20231022T045017Z
LAST-MODIFIED:20231022T053913Z
UID:6316-1704655800-1704663000@www.stpaulsem.com
SUMMARY:Biblical Hebrew III
DESCRIPTION:Date: January 7\, 2024 (10 weeks) \nTime: 7:30PM \nProfessor: Dr. Dongsu Kim\, Ph.D \nZoom class \nRegistration Link: \n바울신학대학원 2024년 봄학기 강좌 등록양식 – Google Forms
URL:https://www.stpaulsem.com/event/biblical-hebrew-iii/
ATTACH;FMTTYPE=image/jpeg:https://www.stpaulsem.com/wp-content/uploads/2023/10/hebrew-5223019_1280.jpg
END:VEVENT
BEGIN:VEVENT
DTSTART;TZID=UTC:20240107T193000
DTEND;TZID=UTC:20240107T213000
DTSTAMP:20260421T081225
CREATED:20231022T045455Z
LAST-MODIFIED:20231022T053729Z
UID:6319-1704655800-1704663000@www.stpaulsem.com
SUMMARY:성서 히브리어 III
DESCRIPTION:날짜: 2024년 1월 7일 (일요일) 개강 (10주) \n시간: 7:30PM \n강사: 김동수박사 Ph.D \n줌 강의 \n등록 링크: \n바울신학대학원 2024년 봄학기 강좌 등록양식 – Google Forms
URL:https://www.stpaulsem.com/event/%ec%84%b1%ec%84%9c-%ed%9e%88%eb%b8%8c%eb%a6%ac%ec%96%b4-iii/
ATTACH;FMTTYPE=image/jpeg:https://www.stpaulsem.com/wp-content/uploads/2023/10/hebrew-5223019_1280.jpg
END:VEVENT
END:VCALENDAR