BEGIN:VCALENDAR
VERSION:2.0
PRODID:-//Saint Paul Academy of Theology - ECPv6.15.13.1//NONSGML v1.0//EN
CALSCALE:GREGORIAN
METHOD:PUBLISH
X-WR-CALNAME:Saint Paul Academy of Theology
X-ORIGINAL-URL:https://www.stpaulsem.com
X-WR-CALDESC:Events for Saint Paul Academy of Theology
REFRESH-INTERVAL;VALUE=DURATION:PT1H
X-Robots-Tag:noindex
X-PUBLISHED-TTL:PT1H
BEGIN:VTIMEZONE
TZID:America/Halifax
BEGIN:DAYLIGHT
TZOFFSETFROM:-0400
TZOFFSETTO:-0300
TZNAME:ADT
DTSTART:20210314T060000
END:DAYLIGHT
BEGIN:STANDARD
TZOFFSETFROM:-0300
TZOFFSETTO:-0400
TZNAME:AST
DTSTART:20211107T050000
END:STANDARD
BEGIN:DAYLIGHT
TZOFFSETFROM:-0400
TZOFFSETTO:-0300
TZNAME:ADT
DTSTART:20220313T060000
END:DAYLIGHT
BEGIN:STANDARD
TZOFFSETFROM:-0300
TZOFFSETTO:-0400
TZNAME:AST
DTSTART:20221106T050000
END:STANDARD
BEGIN:DAYLIGHT
TZOFFSETFROM:-0400
TZOFFSETTO:-0300
TZNAME:ADT
DTSTART:20230312T060000
END:DAYLIGHT
BEGIN:STANDARD
TZOFFSETFROM:-0300
TZOFFSETTO:-0400
TZNAME:AST
DTSTART:20231105T050000
END:STANDARD
END:VTIMEZONE
BEGIN:VEVENT
DTSTART;VALUE=DATE:20220619
DTEND;VALUE=DATE:20220620
DTSTAMP:20260421T220349
CREATED:20220420T233049Z
LAST-MODIFIED:20220610T073433Z
UID:2195-1655596800-1655683199@www.stpaulsem.com
SUMMARY:[특강] 교회론
DESCRIPTION:교회론\n2022년 6월 19일 (일요일) – 7:30PM – (미동부시간) \n강사\n오덕교박사\, MDiv\, PhD \n제목\n미국근대교회사 \n강사약력\nWestminster Theological Seminary\, 겸임교수 \n전 몽고 울란바타르대학 총장 \n전 합동신학대학원 총장 \n전 합동신학대학원 역사신학 교수 \nWestminster Theological Seminary\, PhD \n총신대학교\, ThM\, MDiv\, BA \nZoom Link\nhttps://us02web.zoom.us/j/85719090784?pwd=QXRsa0dIRDhHVGt4NUFJL2djS29oUT09 \n(Passcode: 777045)
URL:https://www.stpaulsem.com/event/ecclesiology/
LOCATION:New York\, 440 Sylvan Avenue\, Suite 250\, Englewood Cliffs\, New Jersey 07632-2700\, NY\, United States
CATEGORIES:Seminars
ATTACH;FMTTYPE=image/jpeg:https://www.stpaulsem.com/wp-content/uploads/2021/03/event-5.jpg
ORGANIZER;CN="M.Div%2C Ph.D.":MAILTO:hagiospat@gmail.com
END:VEVENT
BEGIN:VEVENT
DTSTART;VALUE=DATE:20220613
DTEND;VALUE=DATE:20220614
DTSTAMP:20260421T220349
CREATED:20220420T233513Z
LAST-MODIFIED:20220610T200655Z
UID:2199-1655078400-1655164799@www.stpaulsem.com
SUMMARY:[정규과목] 신약
DESCRIPTION:신약\n            \n2022년 7월 17일 (일요일) 10주간 – 7:30PM – (미동부시간) \n\n               강사\n            \n		김동수박사\, MDiv\, PhD		 \n\n               과목\n            \n		성경신학개론 (BT201)		 \n\n               강사약력\n            \n바울신학원 원장 \nMBTS\, Denver Seminary\, Pillar College\, BTS겸임교수 \n\n               Zoom 링크\n            \nhttps://us02web.zoom.us/j/85719090784?pwd=QXRsa0dIRDhHVGt4NUFJL2djS29oUT09(Passcode: 777045)
URL:https://www.stpaulsem.com/event/new-drug/
LOCATION:New York\, 440 Sylvan Avenue\, Suite 250\, Englewood Cliffs\, New Jersey 07632-2700\, NY\, United States
CATEGORIES:Seminars
ATTACH;FMTTYPE=image/jpeg:https://www.stpaulsem.com/wp-content/uploads/2021/03/event-5.jpg
ORGANIZER;CN="M.Div%2C Ph.D.":MAILTO:hagiospat@gmail.com
END:VEVENT
BEGIN:VEVENT
DTSTART;VALUE=DATE:20220613
DTEND;VALUE=DATE:20220614
DTSTAMP:20260421T220349
CREATED:20220420T233408Z
LAST-MODIFIED:20220610T073340Z
UID:2197-1655078400-1655164799@www.stpaulsem.com
SUMMARY:[정규과목] 헬라어
DESCRIPTION:헬라어  \n2022년 6월 13일 (월요일) 10주간 7:30PM  (미동부시간) \n강사 \n김동수박사\, MDiv\, PhD \n과목 \n초급헬라어 \n강사약력 바울신학원 원장 \nMBTS\, Denver Seminary\, Pillar College\, BTS겸임교수 \n전 Nyack College 교수 (1998-2017) \nWestminster Theological Seminary\, MDiv\, PhD(성경해석학) \nUniversity of Pennsylvania\, PhD Studies (국제정치학) \nSeoul National University\, BA\, MA (국제정치학) \nZoom링크 \nhttps://us02web.zoom.us/j/86554921259?pwd=TGxGL1hjWW9WTkg5ZzRuUkljWFJRZz09\n(Passcode: 051782)
URL:https://www.stpaulsem.com/event/greek/
LOCATION:New York\, 440 Sylvan Avenue\, Suite 250\, Englewood Cliffs\, New Jersey 07632-2700\, NY\, United States
CATEGORIES:Seminars
ATTACH;FMTTYPE=image/jpeg:https://www.stpaulsem.com/wp-content/uploads/2021/03/event-5.jpg
ORGANIZER;CN="M.Div%2C Ph.D.":MAILTO:hagiospat@gmail.com
END:VEVENT
BEGIN:VEVENT
DTSTART;VALUE=DATE:20220610
DTEND;VALUE=DATE:20220611
DTSTAMP:20260421T220349
CREATED:20220420T233641Z
LAST-MODIFIED:20220613T021700Z
UID:2201-1654819200-1654905599@www.stpaulsem.com
SUMMARY:[특강] 조직신학
DESCRIPTION:조직신학  \n2022년 6월 10일 (일요일) 7:30PM (미동부시간) \n강사\n정성욱박사\, MDiv\, DPhil \n특강제목 \n캘빈과 에드워즈의 신학적 만남 \n강사약력 \n덴버신학교 조직신학 교수 \n옥스포드대학교 DPhil \n하버드대학교 MDiv \nWhitworth University 학사 \n계명대학교 학사 \n  \nZoom링크 \nhttps://us02web.zoom.us/j/85719090784?pwd=QXRsa0dIRDhHVGt4NUFJL2djS29oUT09\n(Passcode: 777045)
URL:https://www.stpaulsem.com/event/systematic-theology/
LOCATION:New York\, 440 Sylvan Avenue\, Suite 250\, Englewood Cliffs\, New Jersey 07632-2700\, NY\, United States
CATEGORIES:Seminars
ATTACH;FMTTYPE=image/jpeg:https://www.stpaulsem.com/wp-content/uploads/2021/03/event-5.jpg
ORGANIZER;CN="M.Div%2C Ph.D.":MAILTO:hagiospat@gmail.com
END:VEVENT
BEGIN:VEVENT
DTSTART;TZID=America/Halifax:20220515T080000
DTEND;TZID=America/Halifax:20220529T170000
DTSTAMP:20260421T220349
CREATED:20210317T083032Z
LAST-MODIFIED:20220610T073456Z
UID:515-1652601600-1653843600@www.stpaulsem.com
SUMMARY:[특강] 성서고고학
DESCRIPTION:성서고고학\n2022년 5월 15\, 22\, 29일 (일요일)  7:30PM  (미동부시간) \n강사 \n김남철박사\, MDiv; ThD \n제목\n“성경과 고대문명 속에 새겨진 에덴의 발견” \n약력 \nBARA 유물관 대표 \n전 총신대학교 객원교수 \n30년 근동문명과유물 탐사연구 \n영국 Birmingham University대학원 \n저서 \n성경을 증거하는 메소포타미아 신화와 유물이야기; 에덴의 발견 \nZoom Link\n https://us02web.zoom.us/j/85719090784?pwd=QXRsa0dIRDhHVGt4NUFJL2djS29oUT09  \n(Passcode: 777045)
URL:https://www.stpaulsem.com/event/biblical-archeology/
LOCATION:New York\, 440 Sylvan Avenue\, Suite 250\, Englewood Cliffs\, New Jersey 07632-2700\, NY\, United States
CATEGORIES:Seminars
ATTACH;FMTTYPE=image/jpeg:https://www.stpaulsem.com/wp-content/uploads/2021/03/event-5.jpg
ORGANIZER;CN="M.Div%2C Ph.D.":MAILTO:hagiospat@gmail.com
END:VEVENT
END:VCALENDAR